BEGIN:VCALENDAR
VERSION:2.0
PRODID:-//Geluidnieuws - ECPv6.0.0.1//NONSGML v1.0//EN
CALSCALE:GREGORIAN
METHOD:PUBLISH
X-WR-CALNAME:Geluidnieuws
X-ORIGINAL-URL:https://geluidnieuws.nl/home
X-WR-CALDESC:Events for Geluidnieuws
REFRESH-INTERVAL;VALUE=DURATION:PT1H
X-Robots-Tag:noindex
X-PUBLISHED-TTL:PT1H
BEGIN:VTIMEZONE
TZID:Europe/Amsterdam
BEGIN:DAYLIGHT
TZOFFSETFROM:+0100
TZOFFSETTO:+0200
TZNAME:CEST
DTSTART:20260329T010000
END:DAYLIGHT
BEGIN:STANDARD
TZOFFSETFROM:+0200
TZOFFSETTO:+0100
TZNAME:CET
DTSTART:20261025T010000
END:STANDARD
END:VTIMEZONE
BEGIN:VEVENT
DTSTART;TZID=Europe/Amsterdam:20260303T090000
DTEND;TZID=Europe/Amsterdam:20260303T150000
DTSTAMP:20260422T210406
CREATED:20260221T154030Z
LAST-MODIFIED:20260221T160532Z
UID:12977-1772528400-1772550000@geluidnieuws.nl
SUMMARY:Opleiding Enviro Noise Partner
DESCRIPTION:
URL:https://geluidnieuws.nl/home/event/enviro-noise-partner/
LOCATION:ENMO\, IJsselburcht 3\, Arnhem\, Gelderland\, 6825BS
END:VEVENT
END:VCALENDAR