BEGIN:VCALENDAR
VERSION:2.0
PRODID:-//Geluidnieuws - ECPv6.0.0.1//NONSGML v1.0//EN
CALSCALE:GREGORIAN
METHOD:PUBLISH
X-ORIGINAL-URL:https://geluidnieuws.nl/home
X-WR-CALDESC:Events for Geluidnieuws
REFRESH-INTERVAL;VALUE=DURATION:PT1H
X-Robots-Tag:noindex
X-PUBLISHED-TTL:PT1H
BEGIN:VTIMEZONE
TZID:Europe/Amsterdam
BEGIN:DAYLIGHT
TZOFFSETFROM:+0100
TZOFFSETTO:+0200
TZNAME:CEST
DTSTART:20260329T010000
END:DAYLIGHT
BEGIN:STANDARD
TZOFFSETFROM:+0200
TZOFFSETTO:+0100
TZNAME:CET
DTSTART:20261025T010000
END:STANDARD
END:VTIMEZONE
BEGIN:VEVENT
DTSTART;TZID=Europe/Amsterdam:20260326T090000
DTEND;TZID=Europe/Amsterdam:20260326T173000
DTSTAMP:20260422T210116
CREATED:20260125T181531Z
LAST-MODIFIED:20260125T181531Z
UID:12889-1774515600-1774546200@geluidnieuws.nl
SUMMARY:Nationale Geluidshinderdag 2026
DESCRIPTION:
URL:https://geluidnieuws.nl/home/event/nationale-geluidshinderdag-2026/
LOCATION:De Eenhoorn\, Amersfoort\, Barchman Wuytierslaan 2\, Amersfoort\, Utrecht\, 3818LH\, Nederland
ORGANIZER;CN="NSG":MAILTO:https://www.nsg.nl/nl/nsg-middagenformulier
END:VEVENT
END:VCALENDAR