BEGIN:VCALENDAR
VERSION:2.0
PRODID:-//Geluidnieuws - ECPv6.0.0.1//NONSGML v1.0//EN
CALSCALE:GREGORIAN
METHOD:PUBLISH
X-WR-CALNAME:Geluidnieuws
X-ORIGINAL-URL:https://geluidnieuws.nl/home
X-WR-CALDESC:Events for Geluidnieuws
REFRESH-INTERVAL;VALUE=DURATION:PT1H
X-Robots-Tag:noindex
X-PUBLISHED-TTL:PT1H
BEGIN:VTIMEZONE
TZID:Europe/Amsterdam
BEGIN:DAYLIGHT
TZOFFSETFROM:+0100
TZOFFSETTO:+0200
TZNAME:CEST
DTSTART:20260329T010000
END:DAYLIGHT
BEGIN:STANDARD
TZOFFSETFROM:+0200
TZOFFSETTO:+0100
TZNAME:CET
DTSTART:20261025T010000
END:STANDARD
END:VTIMEZONE
BEGIN:VEVENT
DTSTART;TZID=Europe/Amsterdam:20260505T090000
DTEND;TZID=Europe/Amsterdam:20260505T123000
DTSTAMP:20260422T205842
CREATED:20260221T160203Z
LAST-MODIFIED:20260221T160203Z
UID:13007-1777971600-1777984200@geluidnieuws.nl
SUMMARY:Opleiding Geluid Vlarem
DESCRIPTION:
URL:https://geluidnieuws.nl/home/event/opleiding-geluid-vlarem/
LOCATION:ENMO\, IJsselburcht 3\, Arnhem\, Gelderland\, 6825BS
END:VEVENT
END:VCALENDAR