BEGIN:VCALENDAR
VERSION:2.0
PRODID:-//Geluidnieuws - ECPv6.0.0.1//NONSGML v1.0//EN
CALSCALE:GREGORIAN
METHOD:PUBLISH
X-WR-CALNAME:Geluidnieuws
X-ORIGINAL-URL:https://geluidnieuws.nl/home
X-WR-CALDESC:Events for Geluidnieuws
REFRESH-INTERVAL;VALUE=DURATION:PT1H
X-Robots-Tag:noindex
X-PUBLISHED-TTL:PT1H
BEGIN:VTIMEZONE
TZID:Europe/Amsterdam
BEGIN:DAYLIGHT
TZOFFSETFROM:+0100
TZOFFSETTO:+0200
TZNAME:CEST
DTSTART:20240331T010000
END:DAYLIGHT
BEGIN:STANDARD
TZOFFSETFROM:+0200
TZOFFSETTO:+0100
TZNAME:CET
DTSTART:20241027T010000
END:STANDARD
BEGIN:DAYLIGHT
TZOFFSETFROM:+0100
TZOFFSETTO:+0200
TZNAME:CEST
DTSTART:20250330T010000
END:DAYLIGHT
BEGIN:STANDARD
TZOFFSETFROM:+0200
TZOFFSETTO:+0100
TZNAME:CET
DTSTART:20251026T010000
END:STANDARD
END:VTIMEZONE
BEGIN:VEVENT
DTSTART;TZID=Europe/Amsterdam:20250403T090000
DTEND;TZID=Europe/Amsterdam:20250403T170000
DTSTAMP:20260425T182751
CREATED:20241229T132916Z
LAST-MODIFIED:20241229T133219Z
UID:11761-1743670800-1743699600@geluidnieuws.nl
SUMMARY:Opleiding 'Tonaliteit'
DESCRIPTION:
URL:https://geluidnieuws.nl/home/event/opleiding-tonaliteit-2/
LOCATION:Vosselaar (B)
END:VEVENT
BEGIN:VEVENT
DTSTART;TZID=Europe/Amsterdam:20250327T100000
DTEND;TZID=Europe/Amsterdam:20250327T104500
DTSTAMP:20260425T182751
CREATED:20250129T211536Z
LAST-MODIFIED:20250129T211536Z
UID:11860-1743069600-1743072300@geluidnieuws.nl
SUMMARY:Webinar 'verken de wereld van de trillingsopnemers'
DESCRIPTION:
URL:https://geluidnieuws.nl/home/event/webinar-verken-de-wereld-van-de-trillingsopnemers/
LOCATION:Online
END:VEVENT
BEGIN:VEVENT
DTSTART;TZID=Europe/Amsterdam:20250327T100000
DTEND;TZID=Europe/Amsterdam:20250327T104500
DTSTAMP:20260425T182751
CREATED:20250129T211441Z
LAST-MODIFIED:20250129T211441Z
UID:11858-1743069600-1743072300@geluidnieuws.nl
SUMMARY:Webinar 'introductie tot microfoons & hydrofoons'
DESCRIPTION:
URL:https://geluidnieuws.nl/home/event/webinar-introductie-tot-microfoons-hydrofoons-2/
LOCATION:Online
END:VEVENT
BEGIN:VEVENT
DTSTART;TZID=Europe/Amsterdam:20250325T140000
DTEND;TZID=Europe/Amsterdam:20250325T144500
DTSTAMP:20260425T182751
CREATED:20250129T211353Z
LAST-MODIFIED:20250129T211353Z
UID:11856-1742911200-1742913900@geluidnieuws.nl
SUMMARY:Webinar 'Building Acoustics Partner'
DESCRIPTION:
URL:https://geluidnieuws.nl/home/event/webinar-building-acoustics-partner/
LOCATION:Online
END:VEVENT
BEGIN:VEVENT
DTSTART;TZID=Europe/Amsterdam:20250325T100000
DTEND;TZID=Europe/Amsterdam:20250325T104500
DTSTAMP:20260425T182751
CREATED:20250129T211225Z
LAST-MODIFIED:20250129T211225Z
UID:11854-1742896800-1742899500@geluidnieuws.nl
SUMMARY:Webinar 'Introductie tot de wereld van geaccrediteerde kalibraties'
DESCRIPTION:
URL:https://geluidnieuws.nl/home/event/webinar-introductie-tot-de-wereld-van-geaccrediteerde-kalibraties-2/
LOCATION:Online
END:VEVENT
BEGIN:VEVENT
DTSTART;TZID=Europe/Amsterdam:20250313T093000
DTEND;TZID=Europe/Amsterdam:20250313T163000
DTSTAMP:20260425T182751
CREATED:20241229T133046Z
LAST-MODIFIED:20241229T133125Z
UID:11763-1741858200-1741883400@geluidnieuws.nl
SUMMARY:Opleiding 'Laagfrequent Geluid'
DESCRIPTION:
URL:https://geluidnieuws.nl/home/event/opleiding-laagfrequent-geluid-5/
LOCATION:Vosselaar (B)
END:VEVENT
BEGIN:VEVENT
DTSTART;VALUE=DATE:20241210
DTEND;VALUE=DATE:20241211
DTSTAMP:20260425T182751
CREATED:20241015T092256Z
LAST-MODIFIED:20241015T092256Z
UID:11565-1733788800-1733875199@geluidnieuws.nl
SUMMARY:Beheren van GPP’s
DESCRIPTION:
URL:https://geluidnieuws.nl/home/event/beheren-van-gpps/
LOCATION:Enschede
END:VEVENT
BEGIN:VEVENT
DTSTART;TZID=Europe/Amsterdam:20241203T120000
DTEND;TZID=Europe/Amsterdam:20241203T170000
DTSTAMP:20260425T182751
CREATED:20241027T152024Z
LAST-MODIFIED:20241027T152024Z
UID:11610-1733227200-1733245200@geluidnieuws.nl
SUMMARY:Bijeenkomst Geluiddempende bedekkingen op vloeren in oud- en nieuwbouw
DESCRIPTION:
URL:https://geluidnieuws.nl/home/event/bijeenkomst-geluiddempende-bedekkingen-op-vloeren-in-oud-en-nieuwbouw/
LOCATION:De Eenhoorn\, Amersfoort\, Barchman Wuytierslaan 2\, Amersfoort\, Utrecht\, 3818LH\, Nederland
ORGANIZER;CN="NSG":MAILTO:https://www.nsg.nl/nl/nsg-middagenformulier
END:VEVENT
BEGIN:VEVENT
DTSTART;TZID=Europe/Amsterdam:20241203T090000
DTEND;TZID=Europe/Amsterdam:20241203T123000
DTSTAMP:20260425T182751
CREATED:20231229T102225Z
LAST-MODIFIED:20231229T102225Z
UID:10656-1733216400-1733229000@geluidnieuws.nl
SUMMARY:Opleiding 'Measurement Partner Suite'
DESCRIPTION:
URL:https://geluidnieuws.nl/home/event/opleiding-measurement-partner-suite-5/
LOCATION:Vosselaar (B)
END:VEVENT
BEGIN:VEVENT
DTSTART;TZID=Europe/Amsterdam:20241123T143000
DTEND;TZID=Europe/Amsterdam:20241123T163000
DTSTAMP:20260425T182751
CREATED:20240717T125916Z
LAST-MODIFIED:20240717T125916Z
UID:11255-1732372200-1732379400@geluidnieuws.nl
SUMMARY:Workshop Sound Track City
DESCRIPTION:
URL:https://geluidnieuws.nl/home/event/workshop-sound-track-city-6/
LOCATION:Amersfoort
END:VEVENT
BEGIN:VEVENT
DTSTART;TZID=Europe/Amsterdam:20241121T090000
DTEND;TZID=Europe/Amsterdam:20241121T170000
DTSTAMP:20260425T182751
CREATED:20231229T102115Z
LAST-MODIFIED:20231229T102115Z
UID:10654-1732179600-1732208400@geluidnieuws.nl
SUMMARY:Opleiding 'Modale Analyse voor Dummies'
DESCRIPTION:
URL:https://geluidnieuws.nl/home/event/opleiding-modale-analyse-voor-dummies-2/
LOCATION:Vosselaar (B)
END:VEVENT
BEGIN:VEVENT
DTSTART;VALUE=DATE:20241120
DTEND;VALUE=DATE:20241121
DTSTAMP:20260425T182751
CREATED:20240409T072553Z
LAST-MODIFIED:20240409T073025Z
UID:11002-1732060800-1732147199@geluidnieuws.nl
SUMMARY:Masterclass Akoestiek van het (geh)oor
DESCRIPTION:
URL:https://geluidnieuws.nl/home/event/masterclass-akoestiek-van-het-gehoor/
END:VEVENT
BEGIN:VEVENT
DTSTART;TZID=Europe/Amsterdam:20241114T090000
DTEND;TZID=Europe/Amsterdam:20241114T123000
DTSTAMP:20260425T182751
CREATED:20231229T102011Z
LAST-MODIFIED:20231229T102011Z
UID:10652-1731574800-1731587400@geluidnieuws.nl
SUMMARY:Opleiding 'Order Tracking'
DESCRIPTION:
URL:https://geluidnieuws.nl/home/event/opleiding-order-tracking/
LOCATION:Vosselaar (B)
END:VEVENT
BEGIN:VEVENT
DTSTART;VALUE=DATE:20241112
DTEND;VALUE=DATE:20241114
DTSTAMP:20260425T182751
CREATED:20240930T080148Z
LAST-MODIFIED:20240930T080148Z
UID:11553-1731369600-1731542399@geluidnieuws.nl
SUMMARY:GTL Congres en Beurs
DESCRIPTION:
URL:https://geluidnieuws.nl/home/event/gtl-congres-en-beurs/
LOCATION:Hilversum
END:VEVENT
BEGIN:VEVENT
DTSTART;TZID=Europe/Amsterdam:20241109T143000
DTEND;TZID=Europe/Amsterdam:20241109T163000
DTSTAMP:20260425T182751
CREATED:20240717T125846Z
LAST-MODIFIED:20240717T125846Z
UID:11253-1731162600-1731169800@geluidnieuws.nl
SUMMARY:Workshop Sound Track City
DESCRIPTION:
URL:https://geluidnieuws.nl/home/event/workshop-sound-track-city-5/
LOCATION:Amsterdam
END:VEVENT
BEGIN:VEVENT
DTSTART;VALUE=DATE:20241027
DTEND;VALUE=DATE:20241028
DTSTAMP:20260425T182751
CREATED:20240930T075849Z
LAST-MODIFIED:20240930T075849Z
UID:11550-1729987200-1730073599@geluidnieuws.nl
SUMMARY:Dag van de stilte
DESCRIPTION:
URL:https://geluidnieuws.nl/home/event/dag-van-de-stilte-6/
ORGANIZER;CN="NSG":MAILTO:https://www.nsg.nl/nl/nsg-middagenformulier
END:VEVENT
BEGIN:VEVENT
DTSTART;VALUE=DATE:20241023
DTEND;VALUE=DATE:20241024
DTSTAMP:20260425T182751
CREATED:20240930T080405Z
LAST-MODIFIED:20240930T080405Z
UID:11555-1729641600-1729727999@geluidnieuws.nl
SUMMARY:Lezingendag Akoestiek van Evenementen en Stadions
DESCRIPTION:
URL:https://geluidnieuws.nl/home/event/lezingendag-akoestiek-van-evenementen-en-stadions/
LOCATION:eindhoven
END:VEVENT
BEGIN:VEVENT
DTSTART;TZID=Europe/Amsterdam:20241019T143000
DTEND;TZID=Europe/Amsterdam:20241019T163000
DTSTAMP:20260425T182751
CREATED:20240717T125804Z
LAST-MODIFIED:20240717T125804Z
UID:11251-1729348200-1729355400@geluidnieuws.nl
SUMMARY:Workshop Sound Track City
DESCRIPTION:
URL:https://geluidnieuws.nl/home/event/workshop-sound-track-city-4/
LOCATION:Amsterdam
END:VEVENT
BEGIN:VEVENT
DTSTART;VALUE=DATE:20241016
DTEND;VALUE=DATE:20241017
DTSTAMP:20260425T182751
CREATED:20240409T072945Z
LAST-MODIFIED:20240409T072945Z
UID:11004-1729036800-1729123199@geluidnieuws.nl
SUMMARY:Acoustic Imaging
DESCRIPTION:
URL:https://geluidnieuws.nl/home/event/acoustic-imaging/
END:VEVENT
BEGIN:VEVENT
DTSTART;TZID=Europe/Amsterdam:20241012T143000
DTEND;TZID=Europe/Amsterdam:20241012T163000
DTSTAMP:20260425T182751
CREATED:20240717T125623Z
LAST-MODIFIED:20240717T125623Z
UID:11248-1728743400-1728750600@geluidnieuws.nl
SUMMARY:Workshop Sound Track City
DESCRIPTION:
URL:https://geluidnieuws.nl/home/event/workshop-sound-track-city-3/
LOCATION:Amsterdam
END:VEVENT
BEGIN:VEVENT
DTSTART;TZID=Europe/Amsterdam:20241010T090000
DTEND;TZID=Europe/Amsterdam:20241010T123000
DTSTAMP:20260425T182751
CREATED:20231229T101904Z
LAST-MODIFIED:20231229T101904Z
UID:10650-1728550800-1728563400@geluidnieuws.nl
SUMMARY:Opleiding 'Tonaliteit'
DESCRIPTION:
URL:https://geluidnieuws.nl/home/event/opleiding-tonaliteit/
LOCATION:Vosselaar (B)
END:VEVENT
BEGIN:VEVENT
DTSTART;TZID=Europe/Amsterdam:20241005T143000
DTEND;TZID=Europe/Amsterdam:20241005T163000
DTSTAMP:20260425T182751
CREATED:20240717T125538Z
LAST-MODIFIED:20240717T125538Z
UID:11246-1728138600-1728145800@geluidnieuws.nl
SUMMARY:Workshop Sound Track City
DESCRIPTION:
URL:https://geluidnieuws.nl/home/event/workshop-sound-track-city-2/
LOCATION:Amsterdam
END:VEVENT
BEGIN:VEVENT
DTSTART;TZID=Europe/Amsterdam:20240928T143000
DTEND;TZID=Europe/Amsterdam:20240928T163000
DTSTAMP:20260425T182751
CREATED:20240717T125451Z
LAST-MODIFIED:20240717T125451Z
UID:11243-1727533800-1727541000@geluidnieuws.nl
SUMMARY:Workshop Sound Track City
DESCRIPTION:
URL:https://geluidnieuws.nl/home/event/workshop-sound-track-city/
LOCATION:Amsterdam
END:VEVENT
BEGIN:VEVENT
DTSTART;VALUE=DATE:20240925
DTEND;VALUE=DATE:20240926
DTSTAMP:20260425T182751
CREATED:20240409T072357Z
LAST-MODIFIED:20240409T073052Z
UID:10999-1727222400-1727308799@geluidnieuws.nl
SUMMARY:Akoestiek van evenementen en stadions
DESCRIPTION:
URL:https://geluidnieuws.nl/home/event/akoestiek-van-evenementen-en-stadions/
END:VEVENT
BEGIN:VEVENT
DTSTART;TZID=Europe/Amsterdam:20240919T090000
DTEND;TZID=Europe/Amsterdam:20240919T170000
DTSTAMP:20260425T182751
CREATED:20231229T101812Z
LAST-MODIFIED:20231229T101812Z
UID:10648-1726736400-1726765200@geluidnieuws.nl
SUMMARY:Opleiding 'Geluidstesten in de praktijk'
DESCRIPTION:
URL:https://geluidnieuws.nl/home/event/opleiding-geluidstesten-in-de-praktijk-4/
LOCATION:Vosselaar (B)
END:VEVENT
BEGIN:VEVENT
DTSTART;VALUE=DATE:20240909
DTEND;VALUE=DATE:20240910
DTSTAMP:20260425T182751
CREATED:20240909T171810Z
LAST-MODIFIED:20240909T171810Z
UID:11424-1725840000-1725926399@geluidnieuws.nl
SUMMARY:Dag van de Stilte
DESCRIPTION:
URL:https://geluidnieuws.nl/home/event/dag-van-de-stilte-5/
END:VEVENT
BEGIN:VEVENT
DTSTART;VALUE=DATE:20240906
DTEND;VALUE=DATE:20240909
DTSTAMP:20260425T182751
CREATED:20240504T083227Z
LAST-MODIFIED:20240504T083227Z
UID:11089-1725580800-1725839999@geluidnieuws.nl
SUMMARY:Akoestisch Zeilweekend
DESCRIPTION:
URL:https://geluidnieuws.nl/home/event/akoestisch-zeilweekend-3/
LOCATION:Zeilinstituut de Bird
END:VEVENT
BEGIN:VEVENT
DTSTART;VALUE=DATE:20240708
DTEND;VALUE=DATE:20240712
DTSTAMP:20260425T182751
CREATED:20231016T132244Z
LAST-MODIFIED:20231016T132244Z
UID:10412-1720396800-1720742399@geluidnieuws.nl
SUMMARY:International Congress on Sound & Vibration
DESCRIPTION:
URL:https://geluidnieuws.nl/home/event/international-congress-on-sound-vibration/
LOCATION:Amsterdam
END:VEVENT
BEGIN:VEVENT
DTSTART;TZID=Europe/Amsterdam:20240626T120000
DTEND;TZID=Europe/Amsterdam:20240626T173000
DTSTAMP:20260425T182751
CREATED:20240425T182542Z
LAST-MODIFIED:20240528T191446Z
UID:11034-1719403200-1719423000@geluidnieuws.nl
SUMMARY:Citizen Science
DESCRIPTION:
URL:https://geluidnieuws.nl/home/event/citizen-science/
LOCATION:De Eenhoorn\, Amersfoort\, Barchman Wuytierslaan 2\, Amersfoort\, Utrecht\, 3818LH\, Nederland
ORGANIZER;CN="NSG":MAILTO:https://www.nsg.nl/nl/nsg-middagenformulier
END:VEVENT
BEGIN:VEVENT
DTSTART;TZID=Europe/Amsterdam:20240620T124500
DTEND;TZID=Europe/Amsterdam:20240620T163000
DTSTAMP:20260425T182751
CREATED:20240603T141732Z
LAST-MODIFIED:20240603T141757Z
UID:11163-1718887500-1718901000@geluidnieuws.nl
SUMMARY:Kennisevent: onderzoek en handhaving in de gebouwde leefomgeving
DESCRIPTION:
URL:https://geluidnieuws.nl/home/event/onderzoek-en-handhaving-in-de-gebouwde-leefomgeving/
LOCATION:Nieman Academie
END:VEVENT
END:VCALENDAR