BEGIN:VCALENDAR
VERSION:2.0
PRODID:-//Geluidnieuws - ECPv6.0.0.1//NONSGML v1.0//EN
CALSCALE:GREGORIAN
METHOD:PUBLISH
X-WR-CALNAME:Geluidnieuws
X-ORIGINAL-URL:https://geluidnieuws.nl/home
X-WR-CALDESC:Events for Geluidnieuws
REFRESH-INTERVAL;VALUE=DURATION:PT1H
X-Robots-Tag:noindex
X-PUBLISHED-TTL:PT1H
BEGIN:VTIMEZONE
TZID:Europe/Amsterdam
BEGIN:DAYLIGHT
TZOFFSETFROM:+0100
TZOFFSETTO:+0200
TZNAME:CEST
DTSTART:20240331T010000
END:DAYLIGHT
BEGIN:STANDARD
TZOFFSETFROM:+0200
TZOFFSETTO:+0100
TZNAME:CET
DTSTART:20241027T010000
END:STANDARD
BEGIN:DAYLIGHT
TZOFFSETFROM:+0100
TZOFFSETTO:+0200
TZNAME:CEST
DTSTART:20250330T010000
END:DAYLIGHT
BEGIN:STANDARD
TZOFFSETFROM:+0200
TZOFFSETTO:+0100
TZNAME:CET
DTSTART:20251026T010000
END:STANDARD
BEGIN:DAYLIGHT
TZOFFSETFROM:+0100
TZOFFSETTO:+0200
TZNAME:CEST
DTSTART:20260329T010000
END:DAYLIGHT
BEGIN:STANDARD
TZOFFSETFROM:+0200
TZOFFSETTO:+0100
TZNAME:CET
DTSTART:20261025T010000
END:STANDARD
END:VTIMEZONE
BEGIN:VEVENT
DTSTART;TZID=Europe/Amsterdam:20260312T093000
DTEND;TZID=Europe/Amsterdam:20260312T163000
DTSTAMP:20260422T235845
CREATED:20260221T154130Z
LAST-MODIFIED:20260221T155825Z
UID:12979-1773307800-1773333000@geluidnieuws.nl
SUMMARY:Opleiding Laagfrequent Geluid
DESCRIPTION:
URL:https://geluidnieuws.nl/home/event/opleiding-laagfrequent-geluid-6/
LOCATION:ENMO\, IJsselburcht 3\, Arnhem\, Gelderland\, 6825BS
END:VEVENT
BEGIN:VEVENT
DTSTART;VALUE=DATE:20260311
DTEND;VALUE=DATE:20260312
DTSTAMP:20260422T235845
CREATED:20260226T170909Z
LAST-MODIFIED:20260226T170909Z
UID:13050-1773187200-1773273599@geluidnieuws.nl
SUMMARY:Lezingendag Ultrasoon geluid en imaging
DESCRIPTION:
URL:https://geluidnieuws.nl/home/event/lezingendag-ultrasoon-geluid-en-imaging/
END:VEVENT
BEGIN:VEVENT
DTSTART;TZID=Europe/Amsterdam:20260309T130000
DTEND;TZID=Europe/Amsterdam:20260310T170000
DTSTAMP:20260422T235845
CREATED:20260130T093628Z
LAST-MODIFIED:20260130T093628Z
UID:12925-1773061200-1773162000@geluidnieuws.nl
SUMMARY:Basiscursus Geluid in de Omgevingswet
DESCRIPTION:
URL:https://geluidnieuws.nl/home/event/basiscursus-geluid-in-de-omgevingswet-11/
LOCATION:Online
END:VEVENT
BEGIN:VEVENT
DTSTART;TZID=Europe/Amsterdam:20260303T090000
DTEND;TZID=Europe/Amsterdam:20260303T150000
DTSTAMP:20260422T235845
CREATED:20260221T154030Z
LAST-MODIFIED:20260221T160532Z
UID:12977-1772528400-1772550000@geluidnieuws.nl
SUMMARY:Opleiding Enviro Noise Partner
DESCRIPTION:
URL:https://geluidnieuws.nl/home/event/enviro-noise-partner/
LOCATION:ENMO\, IJsselburcht 3\, Arnhem\, Gelderland\, 6825BS
END:VEVENT
BEGIN:VEVENT
DTSTART;TZID=Europe/Amsterdam:20251204T120000
DTEND;TZID=Europe/Amsterdam:20251204T173000
DTSTAMP:20260422T235845
CREATED:20251126T165127Z
LAST-MODIFIED:20251126T165127Z
UID:12729-1764849600-1764869400@geluidnieuws.nl
SUMMARY:Energietransitie & Geluid
DESCRIPTION:
URL:https://geluidnieuws.nl/home/event/energietransitie-geluid/
LOCATION:De Eenhoorn\, Amersfoort\, Barchman Wuytierslaan 2\, Amersfoort\, Utrecht\, 3818LH\, Nederland
ORGANIZER;CN="NSG":MAILTO:https://www.nsg.nl/nl/nsg-middagenformulier
END:VEVENT
BEGIN:VEVENT
DTSTART;TZID=Europe/Amsterdam:20251202T090000
DTEND;TZID=Europe/Amsterdam:20251202T150000
DTSTAMP:20260422T235845
CREATED:20250129T211724Z
LAST-MODIFIED:20250129T211724Z
UID:11864-1764666000-1764687600@geluidnieuws.nl
SUMMARY:Opleiding 'Enviro Noise Partner'
DESCRIPTION:
URL:https://geluidnieuws.nl/home/event/opleiding-enviro-noise-partner/
LOCATION:Vosselaar (B)
END:VEVENT
BEGIN:VEVENT
DTSTART;TZID=Europe/Amsterdam:20251120T090000
DTEND;TZID=Europe/Amsterdam:20251120T170000
DTSTAMP:20260422T235845
CREATED:20250129T211634Z
LAST-MODIFIED:20250129T211634Z
UID:11862-1763629200-1763658000@geluidnieuws.nl
SUMMARY:Opleiding 'Theoretische en Praktische handvaten voor Geluidsspecialisten'
DESCRIPTION:
URL:https://geluidnieuws.nl/home/event/opleiding-theoretische-en-praktische-handvaten-voor-geluidsspecialisten-2/
LOCATION:Vosselaar (B)
END:VEVENT
BEGIN:VEVENT
DTSTART;TZID=Europe/Amsterdam:20251120T090000
DTEND;TZID=Europe/Amsterdam:20251120T170000
DTSTAMP:20260422T235845
CREATED:20241229T133727Z
LAST-MODIFIED:20241229T133727Z
UID:11776-1763629200-1763658000@geluidnieuws.nl
SUMMARY:Opleiding 'Theoretische en Praktische handvaten voor Geluidsspecialisten
DESCRIPTION:
URL:https://geluidnieuws.nl/home/event/opleiding-theoretische-en-praktische-handvaten-voor-geluidsspecialisten/
LOCATION:Vosselaar (B)
END:VEVENT
BEGIN:VEVENT
DTSTART;VALUE=DATE:20251111
DTEND;VALUE=DATE:20251113
DTSTAMP:20260422T235845
CREATED:20250725T094138Z
LAST-MODIFIED:20250725T094138Z
UID:12331-1762819200-1762991999@geluidnieuws.nl
SUMMARY:Congres Geluid Trillingen Luchtkwaliteit
DESCRIPTION:
URL:https://geluidnieuws.nl/home/event/congres-geluid-trillingen-luchtkwaliteit/
LOCATION:Hilversum
END:VEVENT
BEGIN:VEVENT
DTSTART;VALUE=DATE:20251026
DTEND;VALUE=DATE:20251027
DTSTAMP:20260422T235845
CREATED:20250727T090021Z
LAST-MODIFIED:20250825T144755Z
UID:12345-1761436800-1761523199@geluidnieuws.nl
SUMMARY:Dag van de Stilte
DESCRIPTION:
URL:https://geluidnieuws.nl/home/event/dag-van-de-stilte-7/
ORGANIZER;CN="NSG":MAILTO:https://www.nsg.nl/nl/nsg-middagenformulier
END:VEVENT
BEGIN:VEVENT
DTSTART;TZID=Europe/Amsterdam:20251021T093000
DTEND;TZID=Europe/Amsterdam:20251021T170000
DTSTAMP:20260422T235845
CREATED:20250824T140407Z
LAST-MODIFIED:20250824T140407Z
UID:12434-1761039000-1761066000@geluidnieuws.nl
SUMMARY:Inspiratiedag Luwte- en Geluidsplanning
DESCRIPTION:
URL:https://geluidnieuws.nl/home/event/inspiratiedag-luwte-en-geluidsplanning/
LOCATION:De Winkelhaak\, Antwerpen
END:VEVENT
BEGIN:VEVENT
DTSTART;TZID=Europe/Amsterdam:20251009T090000
DTEND;TZID=Europe/Amsterdam:20251009T170000
DTSTAMP:20260422T235845
CREATED:20241229T133633Z
LAST-MODIFIED:20241229T133633Z
UID:11774-1760000400-1760029200@geluidnieuws.nl
SUMMARY:Opleiding 'Geluidsintensiteit'
DESCRIPTION:
URL:https://geluidnieuws.nl/home/event/opleiding-geluidsintensiteit-2/
LOCATION:Vosselaar (B)
END:VEVENT
BEGIN:VEVENT
DTSTART;TZID=Europe/Amsterdam:20250930T130000
DTEND;TZID=Europe/Amsterdam:20250930T170000
DTSTAMP:20260422T235845
CREATED:20250727T085908Z
LAST-MODIFIED:20250727T085908Z
UID:12343-1759237200-1759251600@geluidnieuws.nl
SUMMARY:Cursus ‘Geluid in de Omgevingswet’
DESCRIPTION:
URL:https://geluidnieuws.nl/home/event/cursus-geluid-in-de-omgevingswet-5/
END:VEVENT
BEGIN:VEVENT
DTSTART;TZID=Europe/Amsterdam:20250929T130000
DTEND;TZID=Europe/Amsterdam:20250929T170000
DTSTAMP:20260422T235845
CREATED:20250727T085834Z
LAST-MODIFIED:20250727T090202Z
UID:12340-1759150800-1759165200@geluidnieuws.nl
SUMMARY:Cursus ‘Geluid in de Omgevingswet’
DESCRIPTION:
URL:https://geluidnieuws.nl/home/event/cursus-geluid-in-de-omgevingswet-4/
END:VEVENT
BEGIN:VEVENT
DTSTART;TZID=Europe/Amsterdam:20250925T090000
DTEND;TZID=Europe/Amsterdam:20250925T123000
DTSTAMP:20260422T235845
CREATED:20241229T133548Z
LAST-MODIFIED:20241229T133548Z
UID:11772-1758790800-1758803400@geluidnieuws.nl
SUMMARY:Opleiding 'Order Tracking'
DESCRIPTION:
URL:https://geluidnieuws.nl/home/event/opleiding-order-tracking-2/
LOCATION:Vosselaar (B)
END:VEVENT
BEGIN:VEVENT
DTSTART;TZID=Europe/Amsterdam:20250922T120000
DTEND;TZID=Europe/Amsterdam:20250922T163000
DTSTAMP:20260422T235845
CREATED:20250727T085503Z
LAST-MODIFIED:20250727T085503Z
UID:12338-1758542400-1758558600@geluidnieuws.nl
SUMMARY:Geluidhindermiddag over Laag Frequent Geluid
DESCRIPTION:
URL:https://geluidnieuws.nl/home/event/geluidhindermiddag-over-laag-frequent-geluid/
LOCATION:De Eenhoorn\, Amersfoort\, Barchman Wuytierslaan 2\, Amersfoort\, Utrecht\, 3818LH\, Nederland
ORGANIZER;CN="NSG":MAILTO:https://www.nsg.nl/nl/nsg-middagenformulier
END:VEVENT
BEGIN:VEVENT
DTSTART;TZID=Europe/Amsterdam:20250828T080000
DTEND;TZID=Europe/Amsterdam:20250828T170000
DTSTAMP:20260422T235845
CREATED:20250828T061642Z
LAST-MODIFIED:20250828T061642Z
UID:12462-1756368000-1756400400@geluidnieuws.nl
SUMMARY:Lezingendag windturbinegeluid
DESCRIPTION:
URL:https://geluidnieuws.nl/home/event/lezingendag-windturbinegeluid/
END:VEVENT
BEGIN:VEVENT
DTSTART;TZID=Europe/Amsterdam:20250617T090000
DTEND;TZID=Europe/Amsterdam:20250617T170000
DTSTAMP:20260422T235845
CREATED:20241229T133349Z
LAST-MODIFIED:20241229T133447Z
UID:11768-1750150800-1750179600@geluidnieuws.nl
SUMMARY:Opleiding 'Geluidstesten in de praktijk'
DESCRIPTION:
URL:https://geluidnieuws.nl/home/event/opleiding-geluidstesten-in-de-praktijk-5/
LOCATION:Vosselaar (B)
END:VEVENT
BEGIN:VEVENT
DTSTART;TZID=Europe/Amsterdam:20250520T090000
DTEND;TZID=Europe/Amsterdam:20250520T170000
DTSTAMP:20260422T235845
CREATED:20241229T133255Z
LAST-MODIFIED:20241229T133255Z
UID:11765-1747731600-1747760400@geluidnieuws.nl
SUMMARY:Opleiding 'Wat is Geluid?'
DESCRIPTION:
URL:https://geluidnieuws.nl/home/event/opleiding-wat-is-geluid-6/
LOCATION:Vosselaar (B)
END:VEVENT
BEGIN:VEVENT
DTSTART;VALUE=DATE:20250507
DTEND;VALUE=DATE:20250508
DTSTAMP:20260422T235845
CREATED:20250428T092837Z
LAST-MODIFIED:20250428T092837Z
UID:12058-1746576000-1746662399@geluidnieuws.nl
SUMMARY:NAG: lezingendag en ALV
DESCRIPTION:
URL:https://geluidnieuws.nl/home/event/nag-lezingendag-en-alv-3/
LOCATION:Eenhoorn Meeting Center\, Amersfoort
END:VEVENT
BEGIN:VEVENT
DTSTART;TZID=Europe/Amsterdam:20250403T090000
DTEND;TZID=Europe/Amsterdam:20250403T170000
DTSTAMP:20260422T235845
CREATED:20241229T132916Z
LAST-MODIFIED:20241229T133219Z
UID:11761-1743670800-1743699600@geluidnieuws.nl
SUMMARY:Opleiding 'Tonaliteit'
DESCRIPTION:
URL:https://geluidnieuws.nl/home/event/opleiding-tonaliteit-2/
LOCATION:Vosselaar (B)
END:VEVENT
BEGIN:VEVENT
DTSTART;TZID=Europe/Amsterdam:20250327T100000
DTEND;TZID=Europe/Amsterdam:20250327T104500
DTSTAMP:20260422T235845
CREATED:20250129T211536Z
LAST-MODIFIED:20250129T211536Z
UID:11860-1743069600-1743072300@geluidnieuws.nl
SUMMARY:Webinar 'verken de wereld van de trillingsopnemers'
DESCRIPTION:
URL:https://geluidnieuws.nl/home/event/webinar-verken-de-wereld-van-de-trillingsopnemers/
LOCATION:Online
END:VEVENT
BEGIN:VEVENT
DTSTART;TZID=Europe/Amsterdam:20250327T100000
DTEND;TZID=Europe/Amsterdam:20250327T104500
DTSTAMP:20260422T235845
CREATED:20250129T211441Z
LAST-MODIFIED:20250129T211441Z
UID:11858-1743069600-1743072300@geluidnieuws.nl
SUMMARY:Webinar 'introductie tot microfoons & hydrofoons'
DESCRIPTION:
URL:https://geluidnieuws.nl/home/event/webinar-introductie-tot-microfoons-hydrofoons-2/
LOCATION:Online
END:VEVENT
BEGIN:VEVENT
DTSTART;TZID=Europe/Amsterdam:20250325T140000
DTEND;TZID=Europe/Amsterdam:20250325T144500
DTSTAMP:20260422T235845
CREATED:20250129T211353Z
LAST-MODIFIED:20250129T211353Z
UID:11856-1742911200-1742913900@geluidnieuws.nl
SUMMARY:Webinar 'Building Acoustics Partner'
DESCRIPTION:
URL:https://geluidnieuws.nl/home/event/webinar-building-acoustics-partner/
LOCATION:Online
END:VEVENT
BEGIN:VEVENT
DTSTART;TZID=Europe/Amsterdam:20250325T100000
DTEND;TZID=Europe/Amsterdam:20250325T104500
DTSTAMP:20260422T235845
CREATED:20250129T211225Z
LAST-MODIFIED:20250129T211225Z
UID:11854-1742896800-1742899500@geluidnieuws.nl
SUMMARY:Webinar 'Introductie tot de wereld van geaccrediteerde kalibraties'
DESCRIPTION:
URL:https://geluidnieuws.nl/home/event/webinar-introductie-tot-de-wereld-van-geaccrediteerde-kalibraties-2/
LOCATION:Online
END:VEVENT
BEGIN:VEVENT
DTSTART;TZID=Europe/Amsterdam:20250313T093000
DTEND;TZID=Europe/Amsterdam:20250313T163000
DTSTAMP:20260422T235845
CREATED:20241229T133046Z
LAST-MODIFIED:20241229T133125Z
UID:11763-1741858200-1741883400@geluidnieuws.nl
SUMMARY:Opleiding 'Laagfrequent Geluid'
DESCRIPTION:
URL:https://geluidnieuws.nl/home/event/opleiding-laagfrequent-geluid-5/
LOCATION:Vosselaar (B)
END:VEVENT
BEGIN:VEVENT
DTSTART;VALUE=DATE:20241210
DTEND;VALUE=DATE:20241211
DTSTAMP:20260422T235845
CREATED:20241015T092256Z
LAST-MODIFIED:20241015T092256Z
UID:11565-1733788800-1733875199@geluidnieuws.nl
SUMMARY:Beheren van GPP’s
DESCRIPTION:
URL:https://geluidnieuws.nl/home/event/beheren-van-gpps/
LOCATION:Enschede
END:VEVENT
BEGIN:VEVENT
DTSTART;TZID=Europe/Amsterdam:20241203T120000
DTEND;TZID=Europe/Amsterdam:20241203T170000
DTSTAMP:20260422T235845
CREATED:20241027T152024Z
LAST-MODIFIED:20241027T152024Z
UID:11610-1733227200-1733245200@geluidnieuws.nl
SUMMARY:Bijeenkomst Geluiddempende bedekkingen op vloeren in oud- en nieuwbouw
DESCRIPTION:
URL:https://geluidnieuws.nl/home/event/bijeenkomst-geluiddempende-bedekkingen-op-vloeren-in-oud-en-nieuwbouw/
LOCATION:De Eenhoorn\, Amersfoort\, Barchman Wuytierslaan 2\, Amersfoort\, Utrecht\, 3818LH\, Nederland
ORGANIZER;CN="NSG":MAILTO:https://www.nsg.nl/nl/nsg-middagenformulier
END:VEVENT
BEGIN:VEVENT
DTSTART;TZID=Europe/Amsterdam:20241203T090000
DTEND;TZID=Europe/Amsterdam:20241203T123000
DTSTAMP:20260422T235845
CREATED:20231229T102225Z
LAST-MODIFIED:20231229T102225Z
UID:10656-1733216400-1733229000@geluidnieuws.nl
SUMMARY:Opleiding 'Measurement Partner Suite'
DESCRIPTION:
URL:https://geluidnieuws.nl/home/event/opleiding-measurement-partner-suite-5/
LOCATION:Vosselaar (B)
END:VEVENT
BEGIN:VEVENT
DTSTART;TZID=Europe/Amsterdam:20241123T143000
DTEND;TZID=Europe/Amsterdam:20241123T163000
DTSTAMP:20260422T235845
CREATED:20240717T125916Z
LAST-MODIFIED:20240717T125916Z
UID:11255-1732372200-1732379400@geluidnieuws.nl
SUMMARY:Workshop Sound Track City
DESCRIPTION:
URL:https://geluidnieuws.nl/home/event/workshop-sound-track-city-6/
LOCATION:Amersfoort
END:VEVENT
END:VCALENDAR