BEGIN:VCALENDAR
VERSION:2.0
PRODID:-//Geluidnieuws - ECPv6.0.0.1//NONSGML v1.0//EN
CALSCALE:GREGORIAN
METHOD:PUBLISH
X-WR-CALNAME:Geluidnieuws
X-ORIGINAL-URL:https://geluidnieuws.nl/home
X-WR-CALDESC:Events for Geluidnieuws
REFRESH-INTERVAL;VALUE=DURATION:PT1H
X-Robots-Tag:noindex
X-PUBLISHED-TTL:PT1H
BEGIN:VTIMEZONE
TZID:Europe/Amsterdam
BEGIN:DAYLIGHT
TZOFFSETFROM:+0100
TZOFFSETTO:+0200
TZNAME:CEST
DTSTART:20250330T010000
END:DAYLIGHT
BEGIN:STANDARD
TZOFFSETFROM:+0200
TZOFFSETTO:+0100
TZNAME:CET
DTSTART:20251026T010000
END:STANDARD
END:VTIMEZONE
BEGIN:VEVENT
DTSTART;VALUE=DATE:20251111
DTEND;VALUE=DATE:20251113
DTSTAMP:20260425T052314
CREATED:20250725T094138Z
LAST-MODIFIED:20250725T094138Z
UID:12331-1762819200-1762991999@geluidnieuws.nl
SUMMARY:Congres Geluid Trillingen Luchtkwaliteit
DESCRIPTION:
URL:https://geluidnieuws.nl/home/event/congres-geluid-trillingen-luchtkwaliteit/
LOCATION:Hilversum
END:VEVENT
BEGIN:VEVENT
DTSTART;TZID=Europe/Amsterdam:20251120T090000
DTEND;TZID=Europe/Amsterdam:20251120T170000
DTSTAMP:20260425T052314
CREATED:20241229T133727Z
LAST-MODIFIED:20241229T133727Z
UID:11776-1763629200-1763658000@geluidnieuws.nl
SUMMARY:Opleiding 'Theoretische en Praktische handvaten voor Geluidsspecialisten
DESCRIPTION:
URL:https://geluidnieuws.nl/home/event/opleiding-theoretische-en-praktische-handvaten-voor-geluidsspecialisten/
LOCATION:Vosselaar (B)
END:VEVENT
BEGIN:VEVENT
DTSTART;TZID=Europe/Amsterdam:20251120T090000
DTEND;TZID=Europe/Amsterdam:20251120T170000
DTSTAMP:20260425T052314
CREATED:20250129T211634Z
LAST-MODIFIED:20250129T211634Z
UID:11862-1763629200-1763658000@geluidnieuws.nl
SUMMARY:Opleiding 'Theoretische en Praktische handvaten voor Geluidsspecialisten'
DESCRIPTION:
URL:https://geluidnieuws.nl/home/event/opleiding-theoretische-en-praktische-handvaten-voor-geluidsspecialisten-2/
LOCATION:Vosselaar (B)
END:VEVENT
END:VCALENDAR