BEGIN:VCALENDAR
VERSION:2.0
PRODID:-//Geluidnieuws - ECPv6.0.0.1//NONSGML v1.0//EN
CALSCALE:GREGORIAN
METHOD:PUBLISH
X-WR-CALNAME:Geluidnieuws
X-ORIGINAL-URL:https://geluidnieuws.nl/home
X-WR-CALDESC:Events for Geluidnieuws
REFRESH-INTERVAL;VALUE=DURATION:PT1H
X-Robots-Tag:noindex
X-PUBLISHED-TTL:PT1H
BEGIN:VTIMEZONE
TZID:Europe/Amsterdam
BEGIN:DAYLIGHT
TZOFFSETFROM:+0100
TZOFFSETTO:+0200
TZNAME:CEST
DTSTART:20260329T010000
END:DAYLIGHT
BEGIN:STANDARD
TZOFFSETFROM:+0200
TZOFFSETTO:+0100
TZNAME:CET
DTSTART:20261025T010000
END:STANDARD
END:VTIMEZONE
BEGIN:VEVENT
DTSTART;TZID=Europe/Amsterdam:20260602T080000
DTEND;TZID=Europe/Amsterdam:20260602T170000
DTSTAMP:20260422T211558
CREATED:20260329T111829Z
LAST-MODIFIED:20260329T111829Z
UID:13109-1780387200-1780419600@geluidnieuws.nl
SUMMARY:Cursus Geluid in de Omgevingswet
DESCRIPTION:
URL:https://geluidnieuws.nl/home/event/cursus-geluid-in-de-omgevingswet-6/
LOCATION:Utrecht
END:VEVENT
BEGIN:VEVENT
DTSTART;TZID=Europe/Amsterdam:20260609T100000
DTEND;TZID=Europe/Amsterdam:20260609T104500
DTSTAMP:20260422T211558
CREATED:20260221T155208Z
LAST-MODIFIED:20260221T155208Z
UID:12998-1780999200-1781001900@geluidnieuws.nl
SUMMARY:Webinar DIRAC 7 in de praktijk: van meerkanaalsmetingen tot STIPA
DESCRIPTION:
URL:https://geluidnieuws.nl/home/event/webinar-dirac-7-in-de-praktijk-van-meerkanaalsmetingen-tot-stipa/
LOCATION:Online
END:VEVENT
BEGIN:VEVENT
DTSTART;TZID=Europe/Amsterdam:20260611T100000
DTEND;TZID=Europe/Amsterdam:20260611T104500
DTSTAMP:20260422T211558
CREATED:20260221T155306Z
LAST-MODIFIED:20260221T155306Z
UID:13000-1781172000-1781174700@geluidnieuws.nl
SUMMARY:Webinar Verken de wereld van de trillingsopnemers
DESCRIPTION:
URL:https://geluidnieuws.nl/home/event/webinar-verken-de-wereld-van-de-trillingsopnemers-2/
LOCATION:Online
END:VEVENT
BEGIN:VEVENT
DTSTART;TZID=Europe/Amsterdam:20260616T100000
DTEND;TZID=Europe/Amsterdam:20260616T104500
DTSTAMP:20260422T211558
CREATED:20260221T155357Z
LAST-MODIFIED:20260221T155357Z
UID:13002-1781604000-1781606700@geluidnieuws.nl
SUMMARY:Webinar Microfoons en hydrofoons
DESCRIPTION:
URL:https://geluidnieuws.nl/home/event/webinar-microfoons-en-hydrofoons/
LOCATION:Online
END:VEVENT
BEGIN:VEVENT
DTSTART;TZID=Europe/Amsterdam:20260618T080000
DTEND;TZID=Europe/Amsterdam:20260618T170000
DTSTAMP:20260422T211558
CREATED:20260329T111916Z
LAST-MODIFIED:20260329T111916Z
UID:13111-1781769600-1781802000@geluidnieuws.nl
SUMMARY:Cursus Geluid in omgevingsplan
DESCRIPTION:
URL:https://geluidnieuws.nl/home/event/cursus-geluid-in-omgevingsplan/
LOCATION:Utrecht
END:VEVENT
BEGIN:VEVENT
DTSTART;VALUE=DATE:20260629
DTEND;VALUE=DATE:20260702
DTSTAMP:20260422T211558
CREATED:20250715T073742Z
LAST-MODIFIED:20250715T073742Z
UID:12326-1782691200-1782950399@geluidnieuws.nl
SUMMARY:Quiet drones
DESCRIPTION:
URL:https://geluidnieuws.nl/home/event/quiet-drones/
LOCATION:TU Delft\, Kluyverweg 1\, Delft
END:VEVENT
END:VCALENDAR